BEGIN:VCALENDAR
VERSION:2.0
PRODID:-//wp-events-plugin.com//7.2.3.1//EN
TZID:Europe/Berlin
X-WR-TIMEZONE:Europe/Berlin
BEGIN:VEVENT
UID:350@awo-schaumburg.de
DTSTART:20250610T140000Z
DTEND:20250610T160000Z
DTSTAMP:20250217T102208Z
URL:https://awo-schaumburg.de/veranstaltung/spielenachmittag-6/
SUMMARY:Spielenachmittag
DESCRIPTION:Der AWO-Ortsverein Sachsenhagen veranstaltet seinen beliebten S
 pielenachmittag.\n\nBei Rückfragen wenden Sie sich gerne an die erste Vor
 sitzende\, Heidi Stühmeyer: 01522-3453230
ATTACH;FMTTYPE=image/jpeg:https://awo-schaumburg.de/wp-content/uploads/202
 2/01/logo-awo-herz.svg
CATEGORIES:AWO Ortsverein Sachsenhagen
LOCATION:Ratskeller Sachsenhagen\, Markt 8\, Sachsenhagen\, 31553\, Deutsch
 land
X-APPLE-STRUCTURED-LOCATION;VALUE=URI;X-ADDRESS=Markt 8\, Sachsenhagen\, 31
 553\, Deutschland;X-APPLE-RADIUS=100;X-TITLE=Ratskeller Sachsenhagen:geo:0
 ,0
END:VEVENT
END:VCALENDAR