BEGIN:VCALENDAR
VERSION:2.0
PRODID:-//wp-events-plugin.com//7.2.3.1//EN
TZID:Europe/Berlin
X-WR-TIMEZONE:Europe/Berlin
BEGIN:VEVENT
UID:954@awo-schaumburg.de
DTSTART:20261108T100000Z
DTEND:20261108T160000Z
DTSTAMP:20260224T102729Z
URL:https://awo-schaumburg.de/veranstaltung/kunstbazar-zugunsten-des-schau
 mburger-frauenhauses-3/
SUMMARY:Kunstbazar zugunsten des Schaumburger Frauenhauses
DESCRIPTION:Der AWO Kreisverband Schaumburg veranstaltet am 08. November 20
 26 den Kunstbazar zugunsten des Schaumburger Frauenhauses im Gasthof Vehle
 n in Obernkirchen. Über 20 Künstlerinnen und Künstler aus der Region bi
 eten ihre handgefertigten Werke an und spenden einen Teil des Erlöses. Di
 e Pforten des Bazars öffnen um 11:00Uhr.\n\nDie Cafeteria lädt zum Verwe
 ilen ein. Die Mitarbeiterinnen des Frauenhauses und weitere Helferinnen bi
 eten dort selbstgebackenen Kuchen\, Torten und Kaffee gegen eine Spende an
 . Die Bückeburger Band „little jazz“ sorgt für die musikalische Unte
 rhaltung.\n\nJeder Kauf während des Kunstbazars unterstützt die Arbeit d
 es Frauenhauses\, da keine Standgebühr erhoben wird. Stattdessen spenden 
 die Künstlerinnen und Künstler 20% ihrer Einnahmen und ermöglichen so A
 nschaffungen\, die durch den normalen Etat nicht abgedeckt sind\, z.B. pä
 dagogisches Kinderspielzeug.
ATTACH;FMTTYPE=image/jpeg:https://awo-schaumburg.de/wp-content/uploads/202
 2/01/logo-awo-herz.svg
CATEGORIES:AWO Kreisverband Schaumburg e.V.
LOCATION:Gasthof "Vehlen"\, Bückeburger Straße 22\, Obernkirchen\, 31683\
 , Deutschland
X-APPLE-STRUCTURED-LOCATION;VALUE=URI;X-ADDRESS=Bückeburger Straße 22\, O
 bernkirchen\, 31683\, Deutschland;X-APPLE-RADIUS=100;X-TITLE=Gasthof \"Veh
 len\":geo:0,0
END:VEVENT
END:VCALENDAR