BEGIN:VCALENDAR
VERSION:2.0
PRODID:-//wp-events-plugin.com//7.2.3.1//EN
TZID:Europe/Berlin
X-WR-TIMEZONE:Europe/Berlin
BEGIN:VEVENT
UID:409@awo-schaumburg.de
DTSTART:20250816T110000Z
DTEND:20250816T130000Z
DTSTAMP:20250729T085326Z
URL:https://awo-schaumburg.de/veranstaltung/hunger-auf-gemeinschaft/
SUMMARY:Hunger auf Gemeinschaft?
DESCRIPTION:Hunger auf Gemeinschaft?\nVerschiedene Institutionen\, die in S
 tadthagen aktiv sind\, laden zu einem gemeinsamen\, kostenfreien Mittagess
 en ein.\nEntsprechende Gutscheine liegen u.a. in der Geschäftsstelle des 
 AWO Kreisverbandes Schaumburg e.V.\, Rathauspassage 4\, zur Abholung berei
 t.\n\nGemeinsam essen &amp\; Gemeinsam klönen\n\n 	leckeres Mittagessen\n
  	neue Menschen kennenlernen\n 	soziale Träger und Bildungsträger stelle
 n sich vor\n\nMit freundlicher Unterstützung von Bauerngut\, Getränke Da
 mke und Edeka Böhne\n\nFlyer (Download)
ATTACH;FMTTYPE=image/jpeg:https://awo-schaumburg.de/wp-content/uploads/202
 2/01/logo-awo-herz.svg
CATEGORIES:BegegnungsBüro Stadthagen
LOCATION:Marie-Anna-Stift\, Kirchhof 4\, Stadthagen\, 31655\, Deutschland
X-APPLE-STRUCTURED-LOCATION;VALUE=URI;X-ADDRESS=Kirchhof 4\, Stadthagen\, 3
 1655\, Deutschland;X-APPLE-RADIUS=100;X-TITLE=Marie-Anna-Stift:geo:0,0
END:VEVENT
END:VCALENDAR