BEGIN:VCALENDAR
VERSION:2.0
PRODID:-//wp-events-plugin.com//7.2.3.1//EN
TZID:Europe/Berlin
X-WR-TIMEZONE:Europe/Berlin
BEGIN:VEVENT
UID:957@awo-schaumburg.de
DTSTART:20260513T080000Z
DTEND:20260513T100000Z
DTSTAMP:20260424T115647Z
URL:https://awo-schaumburg.de/veranstaltung/awo-fruehstueck-in-sachsenhage
 n/
SUMMARY:AWO-Frühstück in Sachsenhagen
DESCRIPTION:Der AWO Ortsverein Sachsenhagen lädt ein zum gemeinsamen Früh
 stück für Jedermann im Ratskeller in Sachsenhagen.\n\nWir bitten um Vora
 nmeldung bis Freitag\, den 08. Mai 2026 bei Heidi Stühmeyer (01522-345323
 0) oder Iris Craasmann (05725-1277)\n\nÜber eine Spende würden wir uns s
 ehr freuen.\n\nFlyer
ATTACH;FMTTYPE=image/jpeg:https://awo-schaumburg.de/wp-content/uploads/202
 6/04/Fruehstueck_AWO_Ortsverein_Sachsenhagen.jpg
CATEGORIES:AWO Ortsverein Sachsenhagen
LOCATION:Ratskeller Sachsenhagen\, Markt 8\, Sachsenhagen\, 31553\, Deutsch
 land
X-APPLE-STRUCTURED-LOCATION;VALUE=URI;X-ADDRESS=Markt 8\, Sachsenhagen\, 31
 553\, Deutschland;X-APPLE-RADIUS=100;X-TITLE=Ratskeller Sachsenhagen:geo:0
 ,0
END:VEVENT
END:VCALENDAR